BEGIN:VCALENDAR
VERSION:2.0
PRODID:-//University of Liverpool Computer Science Seminar System//v2//EN
BEGIN:VEVENT
DTSTAMP:20260420T112050Z
UID:Seminar-dept-322@lxserverM.csc.liv.ac.uk
ORGANIZER:CN=Lutz Oettershagen:MAILTO:Lutz.Oettershagen@liverpool.ac.uk
DTSTART:20130514T160000
DTEND:20130514T170000
SUMMARY:School Seminar Series
DESCRIPTION:Dr. Darek Kowalski: Communication and Computing in Dynamic Ad Hoc Systems\n\nAd Hoc systems have always been a challenge for computer scientists and engineers. Nowadays only a small percentage of communication and computation is done in ad hoc manner, e.g., in p2p networks and systems. On the other hand, many futuristic concepts, such as Internet of Things, Vehicular Ad Hoc Networks, MANET or Nano-communication, are based on large-scale ad hoc systems, and thus require efficient and scalable distributed algorithms. In this talk I present selected challenges for dynamic ad hoc systems, imposed by environment and data dynamicity, failures, system requirements and performance measures.\n\nhttps://www.csc.liv.ac.uk/research/seminars/abstract.php?id=322
LOCATION:G12
END:VEVENT
END:VCALENDAR
