BEGIN:VCALENDAR
VERSION:2.0
PRODID:-//University of Liverpool Computer Science Seminar System//v2//EN
BEGIN:VEVENT
DTSTAMP:20260421T071647Z
UID:Seminar-dept-347@lxserverM.csc.liv.ac.uk
ORGANIZER:CN=Lutz Oettershagen:MAILTO:Lutz.Oettershagen@liverpool.ac.uk
DTSTART:20140318T160000
DTEND:20140318T170000
SUMMARY:School Seminar Series
DESCRIPTION:Dr Simon Miles: Determining the Provenance of User Decisions\n\nPeople are involved somewhere within most software processes, making decisions that affect how the processes then continue. In a large organisation, processes can involve many people with differing aims depending on their roles. This means that to understand the history of the outputs of such processes, i.e. the provenance of the outputs, we need to establish the basis on which decisions were made. In general, understanding the provenance of data is important in many domains, for knowing how to interpret the data and for determining whether to rely on it. In this talk, I will discuss technologies that may be used in tracking provenance involving human decisions: how to model provenance in W3C PROV, how to engineer applications to capture relevant provenance information, and how we might compare simulations of human decision making with provenance records to determine plausible explanations of decisions. The ideas will be illustrated in the context of a clinical research project.​\n\nhttps://www.csc.liv.ac.uk/research/seminars/abstract.php?id=347
LOCATION:Ashton Lecture Theater
END:VEVENT
END:VCALENDAR
