BEGIN:VCALENDAR
VERSION:2.0
PRODID:-//University of Liverpool Computer Science Seminar System//v2//EN
BEGIN:VEVENT
DTSTAMP:20260419T151529Z
UID:Seminar-dept-336@lxserverM.csc.liv.ac.uk
ORGANIZER:CN=Lutz Oettershagen:MAILTO:Lutz.Oettershagen@liverpool.ac.uk
DTSTART:20131126T160000
DTEND:20131126T170000
SUMMARY:School Seminar Series
DESCRIPTION:Dr. Paolo Turrini: Endogenous Boolean Games\n\nhttps://www.csc.liv.ac.uk/research/seminars/abstract.php?id=336
LOCATION:Ashton Lecture Theater
END:VEVENT
END:VCALENDAR
