BEGIN:VCALENDAR
VERSION:2.0
PRODID:-//University of Liverpool Computer Science Seminar System//v2//EN
BEGIN:VEVENT
DTSTAMP:20260420T172736Z
UID:Seminar-EcCo-566@lxserverM.csc.liv.ac.uk
ORGANIZER:CN=Nicos 	Protopapas:MAILTO:N.Protopapas@liverpool.ac.uk
DTSTART:20171213T130000
DTEND:20171213T140000
SUMMARY:Economics and Computation Series
DESCRIPTION:Peter Tobenna Igwe: Generation of Lower Bounds for Approximate NE Algorithms \n\nhttps://www.csc.liv.ac.uk/research/seminars/abstract.php?id=566
LOCATION:
END:VEVENT
END:VCALENDAR
