BEGIN:VCALENDAR
VERSION:2.0
PRODID:-//University of Liverpool Computer Science Seminar System//v2//EN
BEGIN:VEVENT
DTSTAMP:20260420T064744Z
UID:Seminar-robotics-734@lxserverM.csc.liv.ac.uk
ORGANIZER:CN=Matt webster:MAILTO:M.Webster@liverpool.ac.uk
DTSTART:20190522T130000
DTEND:20190522T140000
SUMMARY:Robotics and Autonomous Systems Series
DESCRIPTION:Ava Thomas Wright: Answer Set Programming Rightful Machines: Solving the Trolley Problem\n\nhttps://www.csc.liv.ac.uk/research/seminars/abstract.php?id=734
LOCATION:
END:VEVENT
END:VCALENDAR
